BEGIN:VCALENDAR
VERSION:2.0
PRODID:-//Національна рада України з питань телебачення і радіомовлення - ECPv4.6.19//NONSGML v1.0//EN
CALSCALE:GREGORIAN
METHOD:PUBLISH
X-WR-CALNAME:Національна рада України з питань телебачення і радіомовлення
X-ORIGINAL-URL:https://nrada.memo.ua
X-WR-CALDESC:Events for Національна рада України з питань телебачення і радіомовлення
BEGIN:VEVENT
DTSTART;VALUE=DATE:20240521
DTEND;VALUE=DATE:20240522
DTSTAMP:20260422T123206
CREATED:20240319T103606Z
LAST-MODIFIED:20240319T103606Z
UID:39114-1716249600-1716335999@nrada.memo.ua
SUMMARY:Всесвітній день культурного різноманіття в ім’я діалогу та розвитку
DESCRIPTION:
URL:https://nrada.memo.ua/event/vsesvitnij-den-kulturnogo-riznomanittya-v-im-ya-dialogu-ta-rozvytku/
END:VEVENT
END:VCALENDAR