BEGIN:VCALENDAR
VERSION:2.0
PRODID:-//Національна рада України з питань телебачення і радіомовлення - ECPv4.6.19//NONSGML v1.0//EN
CALSCALE:GREGORIAN
METHOD:PUBLISH
X-WR-CALNAME:Національна рада України з питань телебачення і радіомовлення
X-ORIGINAL-URL:https://nrada.memo.ua
X-WR-CALDESC:Events for Національна рада України з питань телебачення і радіомовлення
BEGIN:VEVENT
DTSTART;VALUE=DATE:20240601
DTEND;VALUE=DATE:20240602
DTSTAMP:20260423T000522
CREATED:20240319T125619Z
LAST-MODIFIED:20240319T125619Z
UID:39145-1717200000-1717286399@nrada.memo.ua
SUMMARY:Всесвітній день батьків
DESCRIPTION:
URL:https://nrada.memo.ua/event/vsesvitnij-den-batkiv/
END:VEVENT
END:VCALENDAR