BEGIN:VCALENDAR
VERSION:2.0
PRODID:-//Національна рада України з питань телебачення і радіомовлення - ECPv4.6.19//NONSGML v1.0//EN
CALSCALE:GREGORIAN
METHOD:PUBLISH
X-WR-CALNAME:Національна рада України з питань телебачення і радіомовлення
X-ORIGINAL-URL:https://nrada.memo.ua
X-WR-CALDESC:Events for Національна рада України з питань телебачення і радіомовлення
BEGIN:VEVENT
DTSTART;VALUE=DATE:20240703
DTEND;VALUE=DATE:20240704
DTSTAMP:20260424T092907
CREATED:20240702T083732Z
LAST-MODIFIED:20240702T083732Z
UID:48662-1719964800-1720051199@nrada.memo.ua
SUMMARY:Роль медіа у протидії дезінформації під час війни – круглий стіл 3 липня
DESCRIPTION:Міжсекторальний круглий стіл «Роль медіа у протидії дезінформації в умовах війни: між безпекою та свободою. Як посилити ефективність» відбудеться 3 липня. Його організатори – ГО «Український інститут медіа та комунікації»\, Національна рада України з питань телебачення і радіомовлення за підтримки Американської асоціації юристів Ініціативи з верховенства права (ABA ROLI в Україні). \nПід час заходу презентують: \n\n‌аналітичний огляд проєктів із протидії дезінформації\, які реалізують українські медіа\, а також\n‌результати моніторингів  щодо наявності російської дезінформації в українському медіапросторі.\n\nЗаплановані дискусії про роль українських медіа в протидії російській дезінформації і розподіл відповідальності між різними стейкхолдерами у цій сфері. \nУ дискусіях візьмуть участь редактори всеукраїнських і регіональних медіа\, журналісти\, представники громадського сектору та державних органів влади. До обговорення приєднаються і члени Національної ради. \nСтежити за дискусіями під час круглого столу можна буде в режимі онлайн-трансляції. \n
URL:https://nrada.memo.ua/event/rol-media-u-protydiyi-dezinformatsiyi-pid-chas-vijny-kruglyj-stil-3-lypnya/
ATTACH;FMTTYPE=image/jpeg:https://nrada.memo.ua/wp-content/uploads/2024/07/July-3rd_zastavka_FullHD.jpg
END:VEVENT
END:VCALENDAR