BEGIN:VCALENDAR
VERSION:2.0
PRODID:-//Національна рада України з питань телебачення і радіомовлення - ECPv4.6.19//NONSGML v1.0//EN
CALSCALE:GREGORIAN
METHOD:PUBLISH
X-WR-CALNAME:Національна рада України з питань телебачення і радіомовлення
X-ORIGINAL-URL:https://nrada.memo.ua
X-WR-CALDESC:Events for Національна рада України з питань телебачення і радіомовлення
BEGIN:VEVENT
DTSTART;TZID=UTC+0:20240618T080000
DTEND;TZID=UTC+0:20240620T170000
DTSTAMP:20260423T152524
CREATED:20240617T090523Z
LAST-MODIFIED:20240617T090523Z
UID:47374-1718697600-1718902800@nrada.memo.ua
SUMMARY:На CDMSI розглянуть питання безпеки журналістів\, ШІ і мови ворожнечі
DESCRIPTION:18 – 20 червня голова Національної ради Ольга Герасим’юк братиме участь від України у роботі пленарної сесії Керівного комітету Ради Європи з питань медіа та інформаційного суспільства (CDMSI). \nПід час засідання обговорюватимуться результати поточної роботи щодо протидії дезінформації\, зокрема розглядатимуться практичні інструменти\, засновані на стандартах Ради Європи. Ітиметься про техніко-економічне обґрунтування додатків з ефектом занурення в реальність та їхні наслідки для свободи вираження. \nБудуть презентовані матеріали Європейської комісії про Європейський закон про свободу медіа (EMFA) та інші законодавчі зміни ЄС у сфері свободи слова. А також інформація за результатами раніше ухваленої Рекомендації CM/Rec(2024)2 Комітету міністрів щодо протидії використанню стратегічних позовів проти участі громадськості (SLAPPs). \nБуде забезпечено огляд кампанії Ради Європи за безпеку журналістів. Країни-учасниці організації розкажуть про кроки\, зроблені в рамках цієї ініціативи. \nПіде мова і про роботу Ради Європи над правовим механізмом підтримки європейського виробництва серійної драми. \nТакож обговорюватимуться питання штучного інтелекту\, цифрового урядування\, мови ворожнечі та співпраці й активностей РЄ щодо свободи вираження. \n
URL:https://nrada.memo.ua/event/na-cdmsi-rozglyanut-pytannya-bezpeky-zhurnalistiv-shi-i-movy-vorozhnechi/
ATTACH;FMTTYPE=image/png:https://nrada.memo.ua/wp-content/uploads/2024/06/ZAGLUSHKA-NATSIONALNA-RADA-1-1.png
END:VEVENT
END:VCALENDAR