BEGIN:VCALENDAR
VERSION:2.0
PRODID:-//Національна рада України з питань телебачення і радіомовлення - ECPv4.6.19//NONSGML v1.0//EN
CALSCALE:GREGORIAN
METHOD:PUBLISH
X-WR-CALNAME:Національна рада України з питань телебачення і радіомовлення
X-ORIGINAL-URL:https://nrada.memo.ua
X-WR-CALDESC:Events for Національна рада України з питань телебачення і радіомовлення
BEGIN:VEVENT
DTSTART;VALUE=DATE:20240809
DTEND;VALUE=DATE:20240810
DTSTAMP:20260424T171503
CREATED:20240610T094335Z
LAST-MODIFIED:20240729T105405Z
UID:46955-1723161600-1723247999@nrada.memo.ua
SUMMARY:Міжнародний день корінних народів світу
DESCRIPTION:
URL:https://nrada.memo.ua/event/mizhnarodnyj-den-korinnyh-narodiv-svitu/
ATTACH;FMTTYPE=image/jpeg:https://nrada.memo.ua/wp-content/uploads/2023/08/Z-mizhnarodnym-dnem-korinnyh-narodiv-svitu-1700-1000-piks..jpg
END:VEVENT
END:VCALENDAR