BEGIN:VCALENDAR
VERSION:2.0
PRODID:-//Національна рада України з питань телебачення і радіомовлення - ECPv4.6.19//NONSGML v1.0//EN
CALSCALE:GREGORIAN
METHOD:PUBLISH
X-WR-CALNAME:Національна рада України з питань телебачення і радіомовлення
X-ORIGINAL-URL:https://nrada.memo.ua
X-WR-CALDESC:Events for Національна рада України з питань телебачення і радіомовлення
BEGIN:VEVENT
DTSTART;VALUE=DATE:20240802
DTEND;VALUE=DATE:20240803
DTSTAMP:20260424T153759
CREATED:20240724T104809Z
LAST-MODIFIED:20240726T073455Z
UID:49585-1722556800-1722643199@nrada.memo.ua
SUMMARY:Міжнародний день голокосту ромів
DESCRIPTION:
URL:https://nrada.memo.ua/event/mizhnarodnyj-den-golokostu-romiv/
ATTACH;FMTTYPE=image/jpeg:https://nrada.memo.ua/wp-content/uploads/2024/07/2-serpnya-Den-pamyati-pro-genotsyd-romiv.jpg
END:VEVENT
END:VCALENDAR