BEGIN:VCALENDAR
VERSION:2.0
PRODID:-//Національна рада України з питань телебачення і радіомовлення - ECPv4.6.19//NONSGML v1.0//EN
CALSCALE:GREGORIAN
METHOD:PUBLISH
X-WR-CALNAME:Національна рада України з питань телебачення і радіомовлення
X-ORIGINAL-URL:https://nrada.memo.ua
X-WR-CALDESC:Events for Національна рада України з питань телебачення і радіомовлення
BEGIN:VEVENT
DTSTART;VALUE=DATE:20240915
DTEND;VALUE=DATE:20240916
DTSTAMP:20260425T005546
CREATED:20240801T081659Z
LAST-MODIFIED:20240801T082634Z
UID:50118-1726358400-1726444799@nrada.memo.ua
SUMMARY:Міжнародний день демократії
DESCRIPTION:
URL:https://nrada.memo.ua/event/mizhnarodnyj-den-demokratiyi-2/
ATTACH;FMTTYPE=image/jpeg:https://nrada.memo.ua/wp-content/uploads/2023/09/demokratiya-scaled.jpg
END:VEVENT
END:VCALENDAR