BEGIN:VCALENDAR
VERSION:2.0
PRODID:-//Національна рада України з питань телебачення і радіомовлення - ECPv4.6.19//NONSGML v1.0//EN
CALSCALE:GREGORIAN
METHOD:PUBLISH
X-WR-CALNAME:Національна рада України з питань телебачення і радіомовлення
X-ORIGINAL-URL:https://nrada.memo.ua
X-WR-CALDESC:Events for Національна рада України з питань телебачення і радіомовлення
BEGIN:VEVENT
DTSTART;VALUE=DATE:20240618
DTEND;VALUE=DATE:20240619
DTSTAMP:20260423T140424
CREATED:20240319T125931Z
LAST-MODIFIED:20240618T112043Z
UID:39155-1718668800-1718755199@nrada.memo.ua
SUMMARY:Міжнародний день боротьби з мовою ворожнечі
DESCRIPTION:
URL:https://nrada.memo.ua/event/mizhnarodnyj-den-borotby-z-movoyu-nenavysti/
ATTACH;FMTTYPE=image/jpeg:https://nrada.memo.ua/wp-content/uploads/2024/06/Banery-1.jpg
END:VEVENT
END:VCALENDAR