BEGIN:VCALENDAR
VERSION:2.0
PRODID:-//Національна рада України з питань телебачення і радіомовлення - ECPv4.6.19//NONSGML v1.0//EN
CALSCALE:GREGORIAN
METHOD:PUBLISH
X-WR-CALNAME:Національна рада України з питань телебачення і радіомовлення
X-ORIGINAL-URL:https://nrada.memo.ua
X-WR-CALDESC:Events for Національна рада України з питань телебачення і радіомовлення
BEGIN:VEVENT
DTSTART;VALUE=DATE:20240606
DTEND;VALUE=DATE:20240607
DTSTAMP:20260423T034841
CREATED:20240319T124952Z
LAST-MODIFIED:20240606T082219Z
UID:39129-1717632000-1717718399@nrada.memo.ua
SUMMARY:День журналіста
DESCRIPTION:Сьогодні особливо треба пам’ятати\, що журналістське слово має бути світлом у темряві\, надією\, підтримкою для нації\, правдивим голосом України\, що звучить на весь світ\, пересилюючи звуки вибухів. Щодня працювати під обстрілами\, ризикувати своїм життям\, щоб донести правду. Така самопожертва – це справжній героїзм. \nСтаємо на коліна та схиляємо голову перед тими\, хто віддав своє життя\, виконуючи професійний обов’язок. Їхня мужність і відданість справі – заради майбутнього\, заради свободи. Це випало поколінню журналістів історичного часу\, коли віковічна варварська імперія має розвалитися нарешті – і цей труд і на журналістських плечах. Протидіяти руйнівній дезінформації\, служити суспільству й боронити його в тяжкий час – це сьогодні найважливіше редакційне завдання. Журналістам\, що повернулися з бою на щиті\, – честь! \nСили й волі\, мудрості кожному й кожній\, хто заступає на це служіння людям України. \nРазом – до перемоги! \n
URL:https://nrada.memo.ua/event/den-zhurnalista/
ATTACH;FMTTYPE=image/jpeg:https://nrada.memo.ua/wp-content/uploads/2024/06/Banery-9-6-chervnya-Den-zhurnalista-2024.jpg
END:VEVENT
END:VCALENDAR