BEGIN:VCALENDAR
VERSION:2.0
PRODID:-//Національна рада України з питань телебачення і радіомовлення - ECPv4.6.19//NONSGML v1.0//EN
CALSCALE:GREGORIAN
METHOD:PUBLISH
X-WR-CALNAME:Національна рада України з питань телебачення і радіомовлення
X-ORIGINAL-URL:https://nrada.memo.ua
X-WR-CALDESC:Events for Національна рада України з питань телебачення і радіомовлення
BEGIN:VEVENT
DTSTART;VALUE=DATE:20241206
DTEND;VALUE=DATE:20241207
DTSTAMP:20260425T231929
CREATED:20241011T114600Z
LAST-MODIFIED:20241011T114600Z
UID:54011-1733443200-1733529599@nrada.memo.ua
SUMMARY:День Збройних сил України
DESCRIPTION:
URL:https://nrada.memo.ua/event/den-zbrojnyh-syl-ukrayiny-2/
ATTACH;FMTTYPE=image/jpeg:https://nrada.memo.ua/wp-content/uploads/2023/12/Den-ZSU-06.12.2023.jpg
END:VEVENT
END:VCALENDAR