BEGIN:VCALENDAR
VERSION:2.0
PRODID:-//Національна рада України з питань телебачення і радіомовлення - ECPv4.6.19//NONSGML v1.0//EN
CALSCALE:GREGORIAN
METHOD:PUBLISH
X-WR-CALNAME:Національна рада України з питань телебачення і радіомовлення
X-ORIGINAL-URL:https://nrada.memo.ua
X-WR-CALDESC:Events for Національна рада України з питань телебачення і радіомовлення
BEGIN:VEVENT
DTSTART;VALUE=DATE:20240601
DTEND;VALUE=DATE:20240602
DTSTAMP:20260422T223639
CREATED:20240319T104501Z
LAST-MODIFIED:20240603T065331Z
UID:39119-1717200000-1717286399@nrada.memo.ua
SUMMARY:День захисту дітей
DESCRIPTION:Сьогодні світ відзначає Міжнародний день захисту дітей. Це нагода нагадати про захист прав наймолодших громадян\, про забезпечення їм повноцінного дитинства\, зростання й стійкості в непростих обставинах сьогодення. \nЦя війна завдає тяжкої травми дитинству. Але маємо воювати за наших малих – вони завтрашній день\, їм вести країну до процвітання у відчутті себе сильними й здоровими духом вільними людьми. \nНадважливі для цього зусилля медіа! \nІ ми в регуляторі відчуваємо найважливіший обов’язок дбати про безпечний медіапростір\, захист та підтримку якісного й талановитого медіапродукту для дітей! \nЩиро бажаємо успіху всім\, хто трудиться для цього! \nНизький уклін захисникам і захисницям\, які на передовій нищать ворога\, що підняв брудну лапу на дитинство! \nРобимо все\, щоби помагати в цій битві з варваром! \n
URL:https://nrada.memo.ua/event/den-zahystu-ditej/
ATTACH;FMTTYPE=image/jpeg:https://nrada.memo.ua/wp-content/uploads/2024/05/Banery-4-1-chervnya-Den-zahystu-ditej-1.jpg
END:VEVENT
END:VCALENDAR