BEGIN:VCALENDAR
VERSION:2.0
PRODID:-//Національна рада України з питань телебачення і радіомовлення - ECPv4.6.19//NONSGML v1.0//EN
CALSCALE:GREGORIAN
METHOD:PUBLISH
X-WR-CALNAME:Національна рада України з питань телебачення і радіомовлення
X-ORIGINAL-URL:https://nrada.memo.ua
X-WR-CALDESC:Events for Національна рада України з питань телебачення і радіомовлення
BEGIN:VEVENT
DTSTART;VALUE=DATE:20241027
DTEND;VALUE=DATE:20241028
DTSTAMP:20260425T105726
CREATED:20240904T134610Z
LAST-MODIFIED:20240904T134610Z
UID:51477-1729987200-1730073599@nrada.memo.ua
SUMMARY:День української писемності та мови
DESCRIPTION:
URL:https://nrada.memo.ua/event/den-ukrayinskoyi-pysemnosti-ta-movy/
ATTACH;FMTTYPE=image/jpeg:https://nrada.memo.ua/wp-content/uploads/2023/10/Den-ukrayinskoyi-movy-ta-pysemnosti-2460-x-936-piks.-1700-x-1000-piks.-1.jpg
END:VEVENT
END:VCALENDAR