BEGIN:VCALENDAR
VERSION:2.0
PRODID:-//Національна рада України з питань телебачення і радіомовлення - ECPv4.6.19//NONSGML v1.0//EN
CALSCALE:GREGORIAN
METHOD:PUBLISH
X-WR-CALNAME:Національна рада України з питань телебачення і радіомовлення
X-ORIGINAL-URL:https://nrada.memo.ua
X-WR-CALDESC:Events for Національна рада України з питань телебачення і радіомовлення
BEGIN:VEVENT
DTSTART;VALUE=DATE:20240622
DTEND;VALUE=DATE:20240623
DTSTAMP:20260423T213418
CREATED:20240319T125204Z
LAST-MODIFIED:20240624T070407Z
UID:39135-1719014400-1719100799@nrada.memo.ua
SUMMARY:День скорботи і вшанування пам'яті жертв війни в Україні
DESCRIPTION:
URL:https://nrada.memo.ua/event/den-skorboty-i-vshanuvannya-pam-yati-zhertv-vijny-v-ukrayini/
ATTACH;FMTTYPE=image/png:https://nrada.memo.ua/wp-content/uploads/2024/06/Banery-10-22-chervnya-2024.png
END:VEVENT
END:VCALENDAR