BEGIN:VCALENDAR
VERSION:2.0
PRODID:-//Національна рада України з питань телебачення і радіомовлення - ECPv4.6.19//NONSGML v1.0//EN
CALSCALE:GREGORIAN
METHOD:PUBLISH
X-WR-CALNAME:Національна рада України з питань телебачення і радіомовлення
X-ORIGINAL-URL:https://nrada.memo.ua
X-WR-CALDESC:Events for Національна рада України з питань телебачення і радіомовлення
BEGIN:VEVENT
DTSTART;VALUE=DATE:20240630
DTEND;VALUE=DATE:20240701
DTSTAMP:20260424T064423
CREATED:20240319T125425Z
LAST-MODIFIED:20240319T125425Z
UID:39143-1719705600-1719791999@nrada.memo.ua
SUMMARY:День молодіжних та дитячих громадських організацій
DESCRIPTION:
URL:https://nrada.memo.ua/event/den-molodizhnyh-ta-dytyachyh-gromadskyh-organizatsij/
END:VEVENT
END:VCALENDAR