BEGIN:VCALENDAR
VERSION:2.0
PRODID:-//Національна рада України з питань телебачення і радіомовлення - ECPv4.6.19//NONSGML v1.0//EN
CALSCALE:GREGORIAN
METHOD:PUBLISH
X-WR-CALNAME:Національна рада України з питань телебачення і радіомовлення
X-ORIGINAL-URL:https://nrada.memo.ua
X-WR-CALDESC:Events for Національна рада України з питань телебачення і радіомовлення
BEGIN:VEVENT
DTSTART;VALUE=DATE:20240525
DTEND;VALUE=DATE:20240526
DTSTAMP:20260422T171054
CREATED:20240319T103134Z
LAST-MODIFIED:20240319T103134Z
UID:39100-1716595200-1716681599@nrada.memo.ua
SUMMARY:День Державної служби спеціального зв'язку та захисту інформації України
DESCRIPTION:
URL:https://nrada.memo.ua/event/den-derzhavnoyi-sluzhby-spetsialnogo-zv-yazku-ta-zahystu-informatsiyi-ukrayiny/
END:VEVENT
END:VCALENDAR