BEGIN:VCALENDAR
VERSION:2.0
PRODID:-//Національна рада України з питань телебачення і радіомовлення - ECPv4.6.19//NONSGML v1.0//EN
CALSCALE:GREGORIAN
METHOD:PUBLISH
X-WR-CALNAME:Національна рада України з питань телебачення і радіомовлення
X-ORIGINAL-URL:https://nrada.memo.ua
X-WR-CALDESC:Events for Національна рада України з питань телебачення і радіомовлення
BEGIN:VEVENT
DTSTART;VALUE=DATE:20241204
DTEND;VALUE=DATE:20241207
DTSTAMP:20260425T230728
CREATED:20241203T131657Z
LAST-MODIFIED:20241203T131657Z
UID:56880-1733270400-1733529599@nrada.memo.ua
SUMMARY:Боротьба з дезінформацією у країнах ЄС: Ольга Герасим’юк візьме участь у засіданні Керівного комітету Ради Європи
DESCRIPTION:Протягом 4 – 6 грудня у Страсбурзі\, Франція\, відбудеться 26-е пленарне засідання Керівного комітету Ради Європи з питань медіа та інформаційного суспільства (CDMSI). Україну на заході представлятиме голова Національної ради Ольга Герасим’юк. \nУчасники засідання розглянуть питання свободи слова як одного з основних прав людини\, а також звіт про тенденції свободи вираження поглядів у країнах-членах Ради Європи. Також на засіданні будуть представлені результати впровадження у країнах Європи кампанії РЄ за безпеку журналістів «Журналісти мають значення» і заходи\, що відбуваються на національних рівнях. \nСеред питань до обговорення: \n\nактуальні події у сфері медіаграмотності та боротьби з дезінформацією у країнах Європи;\nправа людини та гендерна рівність\, пов’язані з використанням штучного інтелекту;\nконсультації щодо документів CDMSI стосовно протидії використанню стратегічних позовів проти участі громадськості та стратегій і варіантів регулювання задля зменшення ризиків та шкоди\, пов’язаних з онлайн-іграми тощо.\n\nЗі свого боку український медіарегулятор\, серед іншого\, планує повідомити про діяльність\, спрямовану на захист свободи слова\, протидію дезінформації\, пропаганді та мові ворожнечі в умовах російської агресії. \nТакож планується заслухати інформацію про діяльність Європейської аудіовізуальної обсерваторії та Європейської платформи регуляторних органів і інші питання. \nПро перебіг засідання інформуватимемо на сайті далі. \n
URL:https://nrada.memo.ua/event/borotba-z-dezinformatsiyeyu-u-krayinah-yes-olga-gerasym-yuk-vizme-uchast-u-zasidanni-kerivnogo-komitetu-rady-yevropy/
LOCATION:Страсбург
ATTACH;FMTTYPE=image/jpeg:https://nrada.memo.ua/wp-content/uploads/2024/12/ZAGLUSHKA-NATSIONALNA-RADA-1-SH_CDMSI.jpg
END:VEVENT
END:VCALENDAR