BEGIN:VCALENDAR
VERSION:2.0
PRODID:-//Національна рада України з питань телебачення і радіомовлення - ECPv4.6.19//NONSGML v1.0//EN
CALSCALE:GREGORIAN
METHOD:PUBLISH
X-WR-CALNAME:Національна рада України з питань телебачення і радіомовлення
X-ORIGINAL-URL:https://nrada.memo.ua
X-WR-CALDESC:Events for Національна рада України з питань телебачення і радіомовлення
BEGIN:VEVENT
DTSTART;VALUE=DATE:20240709
DTEND;VALUE=DATE:20240710
DTSTAMP:20260424T110401
CREATED:20240709T092454Z
LAST-MODIFIED:20240709T092454Z
UID:48965-1720483200-1720569599@nrada.memo.ua
SUMMARY:9 липня у Києві та Кривому Розі оголошено Днем жалоби
DESCRIPTION:\nСьогодні\, 9 липня\, у Києві та Кривому Розі оголошено День жалоби у зв’язку з російською терористичною атакою на цивільні об’єкти\, що призвела до людських жертв. \n\nЦього дня у містах нашої країни рекомендується приспустити державні прапори на будівлях державної та приватної форм власності. Протягом дня забороняється проведення будь-яких розважальних заходів. \nУ День жалоби Національна рада також рекомендує телеканалам і радіостанціям внести відповідні зміни до сітки мовлення і прибрати розважальні програми з ефіру. \nМедіарегулятор висловлює глибокі співчуття рідним і близьким загиблих. \n\n
URL:https://nrada.memo.ua/event/9-lypnya-u-kyyevi-ta-kryvomu-rozi-ogolosheno-dnem-zhaloby/
ATTACH;FMTTYPE=image/jpeg:https://nrada.memo.ua/wp-content/uploads/2024/07/Baner-1700-x-1000-piks.-9-Den-zhaloby.jpg
END:VEVENT
END:VCALENDAR