BEGIN:VCALENDAR
VERSION:2.0
PRODID:-//Національна рада України з питань телебачення і радіомовлення - ECPv4.6.19//NONSGML v1.0//EN
CALSCALE:GREGORIAN
METHOD:PUBLISH
X-WR-CALNAME:Національна рада України з питань телебачення і радіомовлення
X-ORIGINAL-URL:https://nrada.memo.ua
X-WR-CALDESC:Events for Національна рада України з питань телебачення і радіомовлення
BEGIN:VEVENT
DTSTART;VALUE=DATE:20240518
DTEND;VALUE=DATE:20240519
DTSTAMP:20260422T093205
CREATED:20240518T050100Z
LAST-MODIFIED:20240517T082021Z
UID:44990-1715990400-1716076799@nrada.memo.ua
SUMMARY:18 травня – 80-ті роковини депортації кримських татар та інших народів Криму
DESCRIPTION:18 травня ми вшановуємо пам’ять жертв однієї з найжахливіших трагедій в історії нашої держави – депортації кримськотатарського народу у 1944 році. За наказом Сталіна близько 200 тисяч кримських татар було примусово вигнано зі своїх домівок на півострові Крим і етнічних земель та відправлено у жахливих умовах до Середньої Азії. Десятки тисяч людей загинули під час акції «переселення».\nЦей злочин став одним з наймасштабніших проявів політики радянського геноциду і мав на меті повне винищення кримськотатарської нації на її історичній батьківщині. Лише через півстоліття кримські татари зуміли частково повернутися на рідну землю.\nТа вже у 2014 році\, через кілька десятиліть після розпаду СРСР\, новітні імперські спадкоємці сталінського режиму – путінська росія – вчинила черговий акт агресії проти кримських татар\, окупувавши Кримський півострів.\nТисячі із них зазнали незаконних арештів\, тортур\, політично вмотивованих судових процесів. Десятки активістів та громадських діячів безслідно зникли або ж були знайдені мертвими – за нез’ясованих обставин.\nРосійські окупанти брутально душать будь-які прояви кримськотатарської ідентичності\, культури і самобутності. Забороняють діяльність кримськотатарських медіа\, громадських організацій\, релігійних об’єднань. Вдаються до викрадень\, залякувань\, цькувань і фізичного насильства проти інакодумців. Політика етноциду та культурного геноциду стала для Кремля основним знаряддям у боротьбі проти непокірного тюркського етносу.\nУ ці скорботні дні ми вшановуємо пам’ять жертв геноциду кримськотатарського народу і продовжуємо давати рішучу відсіч новітнім злочинам російських окупантів. Україна ніколи не зупиниться у боротьбі за деокупацію своїх територій і повернення на рідні землі всіх депортованих народів. \n
URL:https://nrada.memo.ua/event/18-travnya-80-ti-rokovyny-deportatsiyi-krymskyh-tatar-ta-inshyh-narodiv-krymu/
ATTACH;FMTTYPE=image/jpeg:https://nrada.memo.ua/wp-content/uploads/2024/05/BANER-KRYM-18-travnya-1700h1000.jpg
END:VEVENT
END:VCALENDAR