BEGIN:VCALENDAR
VERSION:2.0
PRODID:-//Національна рада України з питань телебачення і радіомовлення - ECPv4.6.19//NONSGML v1.0//EN
CALSCALE:GREGORIAN
METHOD:PUBLISH
X-WR-CALNAME:Національна рада України з питань телебачення і радіомовлення
X-ORIGINAL-URL:https://nrada.memo.ua
X-WR-CALDESC:Events for Національна рада України з питань телебачення і радіомовлення
BEGIN:VEVENT
DTSTART;VALUE=DATE:20241116
DTEND;VALUE=DATE:20241117
DTSTAMP:20260425T171600
CREATED:20241115T084203Z
LAST-MODIFIED:20241115T084203Z
UID:55761-1731715200-1731801599@nrada.memo.ua
SUMMARY:16 листопада - День працівників радіо\, телебачення та зв’язку
DESCRIPTION:
URL:https://nrada.memo.ua/event/16-lystopada-den-pratsivnykiv-radio-telebachennya-ta-zv-yazku/
ATTACH;FMTTYPE=image/jpeg:https://nrada.memo.ua/wp-content/uploads/2023/11/Den-pratsivnykiv-radio-telebachennya-zvyazku-1700-x-1000-piks..jpg
END:VEVENT
END:VCALENDAR